BEGIN:VCALENDAR
VERSION:2.0
PRODID:Imitheme.com
BEGIN:VEVENT
UID:20260426T031532-2100320526
DTSTAMP:20260426T031532
DTSTART:20260426T031532Z
DTEND:19700101T000000Z
SUMMARY:Becoming W.I.S.E Spring 2018 Class Completion Brunch
LOCATION:
DESCRIPTION: Location: TBA
END:VEVENT
END:VCALENDAR
