BEGIN:VCALENDAR
VERSION:2.0
PRODID:Imitheme.com
BEGIN:VEVENT
UID:20260426T020430-852070416
DTSTAMP:20260426T020430
DTSTART:20260426T020430Z
DTEND:19700101T000000Z
SUMMARY:TheWISEorg Spring 2018 Retreat - July 12-15th
LOCATION:
DESCRIPTION: No Registration Required. Simply Book your own flight and Reserve your own Room at The Hilton Hotel, Nassau (or stay anywhere on the Island) and meet us daily on our private Hilton Beach and for our nightly escapes at the Fish Market.

Join us in Nassau, Bahamas on July 12-15th for R&amp;R!
END:VEVENT
END:VCALENDAR
