BEGIN:VCALENDAR
VERSION:2.0
PRODID:Imitheme.com
BEGIN:VEVENT
UID:20260426T004926-1443555967
DTSTAMP:20260426T004926
DTSTART:20260426T004926Z
DTEND:19700101T000000Z
SUMMARY:Service Project @ My Sister's Place Women Center
LOCATION:
DESCRIPTION: 
END:VEVENT
END:VCALENDAR
