BEGIN:VCALENDAR
VERSION:2.0
PRODID:Imitheme.com
BEGIN:VEVENT
UID:20260425T232717-685323083
DTSTAMP:20260425T232717
DTSTART:20260425T232717Z
DTEND:19700101T000000Z
SUMMARY:Alumni Meeting 10:30am-12noon
LOCATION:
DESCRIPTION: <table style="height: 84px;" width="521">
<thead>
<tr>
<td width="535">
<table>
<tbody>
<tr>
<td width="909">
<table width="100%">
<tbody>
<tr>
<td></td>
</tr>
</tbody>
</table>
</td>
</tr>
</tbody>
</table>
Please contact Ms. Vernon to confirm your attendance.</td>
</tr>
</thead>
</table>
<table style="height: 30px;" width="525">
<thead>
<tr>
<td width="613">Contact information is within the flyer.</td>
</tr>
</thead>
</table>
&nbsp;
END:VEVENT
END:VCALENDAR
