BEGIN:VCALENDAR
VERSION:2.0
PRODID:Imitheme.com
BEGIN:VEVENT
UID:20260425T220710-338339546
DTSTAMP:20260425T220710
DTSTART:20260425T220710Z
DTEND:19700101T000000Z
SUMMARY:TheWISEorg, Inc. - Fundraiser at The GreeneTurtle - Owings Mills, MD
LOCATION:
DESCRIPTION: HELP US Raise Funds to support our Programs.

<span style="color: #000000;"><span style="margin: 0px; line-height: 115%; font-family: 'Calibri',sans-serif; font-size: 10pt;"><b>Print and hand out 'Funds for Friends' invitations</b></span><span style="margin: 0px; line-height: 115%; font-family: 'Calibri',sans-serif; font-size: 10pt;"> to everyone you meet or see prior to your event.  GUESTS: have the printed invitation upon arrival at The Greene Turtle on July 17th - a portion of your  purchase will be credited toward your sales total.</span></span>

Guests must turn in an invitation to their server or bartender for their purchase to be credited toward your sales total.

From Host: We want to ensure each of our guests have a pleasant dining experience, so we do have a <strong>No Solicitation Policy</strong>. <strong>Invitations may not be distributed on The Greene Turtle property or inside the restaurant prior to or during your 'Funds for Friends' event</strong>.  Thank you for your understanding.
END:VEVENT
END:VCALENDAR
