BEGIN:VCALENDAR
VERSION:2.0
PRODID:Imitheme.com
BEGIN:VEVENT
UID:20260425T205145-399931503
DTSTAMP:20260425T205145
DTSTART:20260425T205145Z
DTEND:19700101T000000Z
SUMMARY:Becoming WISE - Mental Development Program (Fall 2018) - First of 10 weeks of classes
LOCATION:
DESCRIPTION: You cannot register for this class; participants MUST have been accepted to attend.  For more information about registration for our Fall 2018 Becoming WISE mental development program click onto our Services page and submit an application through our website.  Vetting for our FALL cohort starts July 30th.  Interviews will take place the week of Aug 13th

&nbsp;
END:VEVENT
END:VCALENDAR
