BEGIN:VCALENDAR
VERSION:2.0
PRODID:Imitheme.com
BEGIN:VEVENT
UID:20260425T192103-134431391
DTSTAMP:20260425T192103
DTSTART:20260425T192103Z
DTEND:19700101T000000Z
SUMMARY:Completion Ceremony for FA2018 - Becoming WISE Mental Development Program
LOCATION:
DESCRIPTION: <span style="display: inline !important; float: none; background-color: transparent; color: #333333; cursor: text; font-family: Georgia,'Times New Roman','Bitstream Charter',Times,serif; font-size: 16px; font-style: normal; font-variant: normal; font-weight: 400; letter-spacing: normal; orphans: 2; text-align: left; text-decoration: none; text-indent: 0px; text-transform: none; -webkit-text-stroke-width: 0px; white-space: normal; word-spacing: 0px;">Location and Times are TBD</span>
END:VEVENT
END:VCALENDAR
