BEGIN:VCALENDAR
VERSION:2.0
PRODID:Imitheme.com
BEGIN:VEVENT
UID:20260425T153256-540933719
DTSTAMP:20260425T153256
DTSTART:20260425T153256Z
DTEND:19700101T000000Z
SUMMARY:Sister-Circle Spa Day - Sunday Sept 30th
LOCATION:
DESCRIPTION: <p style="text-align: center;"><span style="font-size: x-large;">Join us at the Seoul Spa</span></p>
<p style="text-align: center;">6901 Security Blvd. #3058 Windsor Mill, Maryland 21244</p>
<p style="text-align: center;"><span style="font-size: x-large;">on Sunday, September 30, 2018 </span></p>
<p style="text-align: center;"><span style="font-size: x-large;">from 10 AM- 1 PM</span></p>
<p style="text-align: center;"><span style="margin: 0px; color: windowtext; font-family: 'Arial',sans-serif;">for a relaxing day of self-care, relaxation, socializing, meditation and more! </span></p>
<p style="text-align: center;"><span style="margin: 0px; color: windowtext; font-family: 'Arial',sans-serif;">Fee $40 (Spa Services $30+ $10 registration/processing fee) </span></p>
<p style="text-align: center;">Goto Seoulspausa.com to learn more about the spa and their services.</p>
<p style="text-align: center;"><span style="color: #008000;"><strong>Register below to join US.</strong></span></p>

<iframe id="mc-donation" src="https://app.mobilecause.com/form/u_oHLQ?utm_source=embed&amp;utm_medium=page&amp;utm_campaign=registration" width="100%" height="948"></iframe>
END:VEVENT
END:VCALENDAR
