BEGIN:VCALENDAR
VERSION:2.0
PRODID:Imitheme.com
BEGIN:VEVENT
UID:20260425T141126-555465559
DTSTAMP:20260425T141126
DTSTART:20260425T141126Z
DTEND:19700101T000000Z
SUMMARY:Service Project
LOCATION:
DESCRIPTION: COMING SOON
END:VEVENT
END:VCALENDAR
