BEGIN:VCALENDAR
VERSION:2.0
PRODID:Imitheme.com
BEGIN:VEVENT
UID:20260425T181352-1862476587
DTSTAMP:20260425T181352
DTSTART:20260425T181352Z
DTEND:19700101T000000Z
SUMMARY:TheWISEorg's 2018 Golden Gala - A Black Attire Affair - Invitation ONLY
LOCATION:
DESCRIPTION: <p style="text-align: center;"><span style="font-size: 18px;">Join us for TheWISEorg's Annual Fundraiser
<strong>2018 Golden Gala - A Black-Tie Affair</strong></span></p>
<p style="text-align: center;"><span style="font-size: 18px;"><span style="font-size: 16px;">All proceeds will be used to further support our programs and services - as our programs and services are always FREE to our clients. </span></span></p>
<p style="text-align: center;"><strong><span style="font-size: 18px;">Limited VIP Invitations available NOW (with a Donation of any amount), scroll down to secure your
VIP Invitation or call 301-678-3192.  </span></strong></p>
<p style="text-align: center;"><strong>Venue</strong>: The Park on 14th Street Washington, DC.
7:00pm-11:00pm</p>
<p style="text-align: center;">Guests should register below to ensure their name is on the Guest List. Interested in Sponsorship?  Email drduru@thewiseorg.org.
Can't attend but want to Donate?  <a href="https://www.thewiseorg.org/sponsor_/">Give on our Donate Page</a>.</p>
<p style="text-align: center;"><iframe id="mc-donation" src="https://app.mobilecause.com/form/ZaMPVQ?utm_source=embed&amp;utm_medium=page&amp;utm_campaign=donation" width="100%" height="1639"></iframe></p>
END:VEVENT
END:VCALENDAR
