BEGIN:VCALENDAR
VERSION:2.0
PRODID:Imitheme.com
BEGIN:VEVENT
UID:20260425T164855-1182958923
DTSTAMP:20260425T164855
DTSTART:20260425T164855Z
DTEND:19700101T000000Z
SUMMARY:Fall 2018 - Mental Health Cohort - Interviews
LOCATION:
DESCRIPTION: Location has been emailed to perspective participants.
END:VEVENT
END:VCALENDAR
