BEGIN:VCALENDAR
VERSION:2.0
PRODID:Imitheme.com
BEGIN:VEVENT
UID:20260425T125701-911735907
DTSTAMP:20260425T125701
DTSTART:20260425T125701Z
DTEND:19700101T000000Z
SUMMARY:Service Project - Sarah's Hope Mount Street Shelter, Baltimore MD
LOCATION:
DESCRIPTION: <div style="text-align: center;">We're currently seeking volunteers for our upcoming service project: Sarah's Hope Mount Street Shelter which provides food and shelter to homeless women and their children.</div><br />
<div style="text-align: center;"></div>
<div style="text-align: center;">TheWISEorg is committed to providing a tasty, hearty, and warm meal for residents of the shelter. To help make this service project a success, we need your help!</div><br />
<div style="text-align: center;"></div>
<div style="text-align: center;"><strong>We are seeking volunteers</strong> to prepare, cook and feed over 150 women and children.<br />
<span style="text-decoration: underline;">Volunteer Registration fee of $10</span> covers cost for each volunteer to receive a lite/healthy continental lunch-bag at completion of service</div>
<div style="text-align: center;"><strong><br />
We are seeking donations</strong> to purchase food items to cook: Menu: Chili and Rice</div>
<div style="text-align: center;"></div>
<div style="text-align: center;">To volunteer and/or donate click onto the link below</div>
<iframe id="mc-donation" src="https://app.mobilecause.com/form/sK0R_A?utm_source=embed&utm_medium=page&utm_campaign=donation" width="100%" height="1578" overflow="scroll" onLoad="window.scrollTo(0,0);"></iframe>

END:VEVENT
END:VCALENDAR
