BEGIN:VCALENDAR
VERSION:2.0
PRODID:Imitheme.com
BEGIN:VEVENT
UID:20260425T114022-303219567
DTSTAMP:20260425T114022
DTSTART:20260425T114022Z
DTEND:19700101T000000Z
SUMMARY:Singleness Bitter or Sweet? A Faithgirl Conversation with Dr. Thomisha M. Duru
LOCATION:
DESCRIPTION: Join our Founder, Dr. Thomisha M. Duru (aka The Mental Mobility Guru) as she discusses the impact of healthy relationships and circumstantial situationships on mental health. <span style="text-decoration: underline;"><strong>NOTE</strong></span>: No registration or cost required to attend.
END:VEVENT
END:VCALENDAR
