BEGIN:VCALENDAR
VERSION:2.0
PRODID:Imitheme.com
BEGIN:VEVENT
UID:20260425T102513-1746122999
DTSTAMP:20260425T102513
DTSTART:20260425T102513Z
DTEND:19700101T000000Z
SUMMARY:#GIVINGTuesday 2018
LOCATION:
DESCRIPTION: <p style="text-align: center;"><span style="text-decoration: underline;"><em><span style="color: #800000; font-size: 28px;"><strong>TO GIVE &amp; NOT TO COUNT THE COST!</strong></span></em></span></p>
<iframe id="mc-donation" src="https://app.mobilecause.com/form/FfJ2-w?utm_source=embed&amp;utm_medium=page&amp;utm_campaign=donation" width="100%" height="1602"></iframe>
END:VEVENT
END:VCALENDAR
