BEGIN:VCALENDAR
VERSION:2.0
PRODID:Imitheme.com
BEGIN:VEVENT
UID:20260424T201418-209458088
DTSTAMP:20260424T201418
DTSTART:20260424T201418Z
DTEND:19700101T000000Z
SUMMARY:TheWISEorg, Inc. Board eMeeting
LOCATION:
DESCRIPTION: <span style="display: inline !important; float: none; background-color: transparent; color: #666666; font-family: 'Open Sans',sans-serif; font-size: 14px; font-size-adjust: none; font-stretch: 100%; font-style: normal; font-variant: normal; font-weight: 400; letter-spacing: normal; line-height: 22.4px; orphans: 2; text-align: left; text-decoration: none; text-indent: 0px; text-transform: none; -webkit-text-stroke-width: 0px; white-space: normal; word-spacing: 0px;">Closed Meeting.</span>
<span style="display: inline !important; float: none; background-color: transparent; color: #666666; font-family: 'Open Sans',sans-serif; font-size: 14px; font-size-adjust: none; font-stretch: 100%; font-style: normal; font-variant: normal; font-weight: 400; letter-spacing: normal; line-height: 22.4px; orphans: 2; text-align: left; text-decoration: none; text-indent: 0px; text-transform: none; -webkit-text-stroke-width: 0px; white-space: normal; word-spacing: 0px;"> Open to Board Members and Invitees ONLY</span>
END:VEVENT
END:VCALENDAR
