BEGIN:VCALENDAR
VERSION:2.0
PRODID:Imitheme.com
BEGIN:VEVENT
UID:20260424T191351-1561526602
DTSTAMP:20260424T191351
DTSTART:20260424T191351Z
DTEND:19700101T000000Z
SUMMARY:The Sister-Circle Event: NinjaBe in Columbia MD
LOCATION:
DESCRIPTION: <p style="text-align: center;"><iframe id="mc-donation" src="https://app.mobilecause.com/form/jFCVDQ?utm_source=embed&amp;utm_medium=page&amp;utm_campaign=payment" width="100%" height="1995"></iframe></p>
END:VEVENT
END:VCALENDAR
