BEGIN:VCALENDAR
VERSION:2.0
PRODID:Imitheme.com
BEGIN:VEVENT
UID:20260425T033714-1126440280
DTSTAMP:20260425T033714
DTSTART:20260425T033714Z
DTEND:19700101T000000Z
SUMMARY:Community Service, SHARE Warehouse, Landover, MD
LOCATION:
DESCRIPTION: <span style="color: #000000; font-family: Calibri;">May 11, 2019 </span>

<span style="color: #000000; font-family: Calibri;">SHARE Warehouse (food bagging for distribution)</span>

<span style="color: #000000; font-family: Calibri;">3222 Hubbard Road</span>

<span style="color: #000000; font-family: Calibri;">Landover, MD 20785</span>

<span style="color: #000000; font-family: Calibri;">Must arrive no later than 8:50am
Attire: comfortable with close toe shoes; we ask that you wear our WISE unisex T
Cost: FREE
$30 (for WISE unisex T shirt and lunch bag)
$20 (for WISE unisex T shirt)
$10 (for lunch bag)</span>

<span style="color: #000000; font-family: Calibri;">(must provide own transportation)</span>
<p style="text-align: center;">
<iframe id="mc-donation" src="https://app.mobilecause.com/form/LL1g7w?utm_source=embed&amp;utm_medium=page&amp;utm_campaign=general" width="100%" height="2040"></iframe></p>
END:VEVENT
END:VCALENDAR
