BEGIN:VCALENDAR
VERSION:2.0
PRODID:Imitheme.com
BEGIN:VEVENT
UID:20260425T021406-1121516995
DTSTAMP:20260425T021406
DTSTART:20260425T021406Z
DTEND:19700101T000000Z
SUMMARY:SHARE Food Warehouse, Food Bagging, Landover, MD
LOCATION:
DESCRIPTION: <p style="padding-left: 60px;"><span style="color: #000000; font-family: Calibri;">July 20, 2019</span></p>
<p style="padding-left: 60px;"><span style="color: #000000; font-family: Calibri;">SHARE Food Warehouse (Food Bagging)</span></p>
<p style="padding-left: 60px;"><span style="color: #000000; font-family: Calibri;">3222 Hubbard Road
</span></p>
<p style="padding-left: 60px;"><span style="color: #000000; font-family: Calibri;">Landover, MD 20785
</span></p>
<p style="padding-left: 60px;"><span style="color: #000000; font-family: Calibri;">7:00 am - 10:00am (please arrive by 6:45am)
</span></p>
<p style="padding-left: 60px;"><span style="color: #000000; font-family: Calibri;">Cost: FREE
$30 (for WISE unisex T shirt and lunch bag)
$20 (for WISE unisex T shirt)
$10 (for lunch bag)</span></p>
<p style="padding-left: 60px;"><span style="color: #000000; font-family: Calibri;">(must provide own transportation)</span></p>
<iframe id="mc-donation" src="https://app.mobilecause.com/form/ANCXwQ?utm_source=embed&amp;utm_medium=page&amp;utm_campaign=payment" width="100%" height="2139"></iframe>
END:VEVENT
END:VCALENDAR
