BEGIN:VCALENDAR
VERSION:2.0
PRODID:Imitheme.com
BEGIN:VEVENT
UID:20260425T005233-1119410332
DTSTAMP:20260425T005233
DTSTART:20260425T005233Z
DTEND:19700101T000000Z
SUMMARY:The Sister-Circle Event, Color Me Mine, Silver Spring, MD
LOCATION:
DESCRIPTION: <p style="padding-left: 30px;"><b><span style="margin: 0px; font-family: 'Times New Roman',serif;">Sister-Circle Event
August 17, 2019 11 AM- 1PM</span></b></p>
<p style="padding-left: 30px;"><span style="margin: 0px; font-family: 'Times New Roman',serif;"><span style="color: #000000;">Color Me Mine</span></span></p>
<p style="padding-left: 30px;"><span style="margin: 0px; font-family: 'Times New Roman',serif;"><span style="color: #000000;">823 Ellsworth Dr.</span></span></p>
<p style="padding-left: 30px;"><span style="margin: 0px; font-family: 'Times New Roman',serif;"><span style="color: #000000;">Silver Spring, MD 20910 (must provide own transportation)</span></span></p>
<p style="padding-left: 30px;"><span style="margin: 0px; font-family: 'Times New Roman',serif;"><span style="color: #000000;">Cost: $35 for non-program participants; $15 for current program participants
per painter and include; $55 for non-program participants + WISE unisex All Black Tshirt</span></span></p>
<p style="padding-left: 30px;"><span style="margin: 0px; font-family: 'Times New Roman',serif;"><span style="color: #000000;">-studio fees including glazing &amp; firing</span></span></p>
<p style="padding-left: 30px;"><span style="margin: 0px; font-family: 'Times New Roman',serif;"><span style="color: #000000;">-a piece of pottery up to $17 for each participant</span></span></p>
<p style="padding-left: 30px;"><span style="margin: 0px; font-family: 'Times New Roman',serif; font-size: 11pt;"><span style="color: #000000;">- 2 hours studio time with a hostess</span></span></p>
<p style="text-align: center;"><iframe id="mc-donation" src="https://app.mobilecause.com/form/LH-wvw?utm_source=embed&amp;utm_medium=page&amp;utm_campaign=general" width="100%" height="1913"></iframe></p>
END:VEVENT
END:VCALENDAR
