BEGIN:VCALENDAR
VERSION:2.0
PRODID:Imitheme.com
BEGIN:VEVENT
UID:20260424T234558-1567010846
DTSTAMP:20260424T234558
DTSTART:20260424T234558Z
DTEND:19700101T000000Z
SUMMARY:Sarah's Hope Mount Street Shelter, Community Service, Serving Dinner
LOCATION:
DESCRIPTION: Volunteering is FREE.  We're serving dinner; therefore, Prepration start time is 2pm.

<iframe id="mc-donation" src="https://app.mobilecause.com/form/LL1g7w?utm_source=embed&amp;utm_medium=page&amp;utm_campaign=general" width="100%" height="2037"><span class="mce_SELRES_start" style="width: 0px; line-height: 0; overflow: hidden; display: inline-block;" data-mce-type="bookmark">﻿</span></iframe>
END:VEVENT
END:VCALENDAR
