BEGIN:VCALENDAR
VERSION:2.0
PRODID:Imitheme.com
BEGIN:VEVENT
UID:20260424T175740-510205891
DTSTAMP:20260424T175740
DTSTART:20260424T175740Z
DTEND:19700101T000000Z
SUMMARY:CANCELLED: Community Service (Share Food Network): Landover, MD
LOCATION:
DESCRIPTION: <iframe style="height: 615px; width: 95%; border: 1px solid #dddddd;" src="https://www.flipcause.com/widget/NzQ3NTc=" scrolling="no"></iframe>
END:VEVENT
END:VCALENDAR
