BEGIN:VCALENDAR
VERSION:2.0
PRODID:Imitheme.com
BEGIN:VEVENT
UID:20260424T164513-1248507002
DTSTAMP:20260424T164513
DTSTART:20260424T164513Z
DTEND:19700101T000000Z
SUMMARY:Mental Mobility 101 Spring 2020 Class Kickoff
LOCATION:
DESCRIPTION: <p style="text-align: left;">[ninja_form id=7]</p>
END:VEVENT
END:VCALENDAR
