BEGIN:VCALENDAR
VERSION:2.0
PRODID:Imitheme.com
BEGIN:VEVENT
UID:20260424T140706-1235701630
DTSTAMP:20260424T140706
DTSTART:20260424T140706Z
DTEND:19700101T000000Z
SUMMARY:Spilling the Tea Sister Circle Activity (Virtual)
LOCATION:
DESCRIPTION: <iframe style="height: 615px; width: 95%; border: 1px solid #dddddd;" src="https://www.flipcause.com/widget/OTEyNTY=" scrolling="no"></iframe>
END:VEVENT
END:VCALENDAR
