BEGIN:VCALENDAR
VERSION:2.0
PRODID:Imitheme.com
BEGIN:VEVENT
UID:20260424T134402-1891411469
DTSTAMP:20260424T134402
DTSTART:20260424T134402Z
DTEND:19700101T000000Z
SUMMARY:WISE Walk Sister Circle Activity
LOCATION:
DESCRIPTION: <iframe style="height: 615px; width: 95%; border: 1px solid #dddddd;" src="https://www.flipcause.com/widget/OTEyNTk=" scrolling="no"></iframe>
END:VEVENT
END:VCALENDAR
