BEGIN:VCALENDAR
VERSION:2.0
PRODID:Imitheme.com
BEGIN:VEVENT
UID:20260424T152834-2138176654
DTSTAMP:20260424T152834
DTSTART:20260424T152834Z
DTEND:19700101T000000Z
SUMMARY:Whole Girl Life (Mental Maintenance Program) Starts
LOCATION:
DESCRIPTION: [ninja_form id=11]
END:VEVENT
END:VCALENDAR
