BEGIN:VCALENDAR
VERSION:2.0
PRODID:Imitheme.com
BEGIN:VEVENT
UID:20260424T141204-78246076
DTSTAMP:20260424T141204
DTSTART:20260424T141204Z
DTEND:19700101T000000Z
SUMMARY:WISE Care Kit Challenge
LOCATION:
DESCRIPTION: <iframe style="height: 615px; width: 95%; border: 1px solid #dddddd;" src="https://www.flipcause.com/widget/OTEyNzU=" scrolling="no"></iframe>
END:VEVENT
END:VCALENDAR
