BEGIN:VCALENDAR
VERSION:2.0
PRODID:Imitheme.com
BEGIN:VEVENT
UID:20260424T152634-1622548491
DTSTAMP:20260424T152634
DTSTART:20260424T152634Z
DTEND:19700101T000000Z
SUMMARY:Thanksgiving Fundraiser Challenge Ends
LOCATION:
DESCRIPTION: <iframe style="height: 615px; width: 95%; border: 1px solid #dddddd;" src="https://www.flipcause.com/widget/OTEyNzg=" scrolling="no"><span style="display: inline-block; width: 0px; overflow: hidden; line-height: 0;" data-mce-type="bookmark" class="mce_SELRES_start">﻿</span></iframe>
END:VEVENT
END:VCALENDAR
