BEGIN:VCALENDAR
VERSION:2.0
PRODID:Imitheme.com
BEGIN:VEVENT
UID:20260424T164714-1859088830
DTSTAMP:20260424T164714
DTSTART:20260424T164714Z
DTEND:19700101T000000Z
SUMMARY:Thanksgiving Meal Delivered
LOCATION:
DESCRIPTION: 
END:VEVENT
END:VCALENDAR
